BEGIN:VCALENDAR
VERSION:2.0
PRODID:-//Stettler Adult Learning Centre - ECPv6.15.17//NONSGML v1.0//EN
CALSCALE:GREGORIAN
METHOD:PUBLISH
X-ORIGINAL-URL:https://www.stettlerlearning.com
X-WR-CALDESC:Events for Stettler Adult Learning Centre
REFRESH-INTERVAL;VALUE=DURATION:PT1H
X-Robots-Tag:noindex
X-PUBLISHED-TTL:PT1H
BEGIN:VTIMEZONE
TZID:America/Edmonton
BEGIN:DAYLIGHT
TZOFFSETFROM:-0700
TZOFFSETTO:-0600
TZNAME:MDT
DTSTART:20240310T090000
END:DAYLIGHT
BEGIN:STANDARD
TZOFFSETFROM:-0600
TZOFFSETTO:-0700
TZNAME:MST
DTSTART:20241103T080000
END:STANDARD
BEGIN:DAYLIGHT
TZOFFSETFROM:-0700
TZOFFSETTO:-0600
TZNAME:MDT
DTSTART:20250309T090000
END:DAYLIGHT
BEGIN:STANDARD
TZOFFSETFROM:-0600
TZOFFSETTO:-0700
TZNAME:MST
DTSTART:20251102T080000
END:STANDARD
BEGIN:DAYLIGHT
TZOFFSETFROM:-0700
TZOFFSETTO:-0600
TZNAME:MDT
DTSTART:20260308T090000
END:DAYLIGHT
BEGIN:STANDARD
TZOFFSETFROM:-0600
TZOFFSETTO:-0700
TZNAME:MST
DTSTART:20261101T080000
END:STANDARD
END:VTIMEZONE
BEGIN:VEVENT
DTSTART;TZID=America/Edmonton:20250618T100000
DTEND;TZID=America/Edmonton:20250618T110000
DTSTAMP:20260421T045404
CREATED:20250313T164056Z
LAST-MODIFIED:20250313T164056Z
UID:2820-1750240800-1750244400@www.stettlerlearning.com
SUMMARY:CAEC (GED Virtual Workshops
DESCRIPTION:
URL:https://www.stettlerlearning.com/event/caec-ged-virtual-workshops-3/
LOCATION:Alberta
END:VEVENT
BEGIN:VEVENT
DTSTART;TZID=America/Edmonton:20250618T170000
DTEND;TZID=America/Edmonton:20250618T190000
DTSTAMP:20260421T045404
CREATED:20250214T215313Z
LAST-MODIFIED:20250214T215313Z
UID:2689-1750266000-1750273200@www.stettlerlearning.com
SUMMARY:Seat at the Table
DESCRIPTION:
URL:https://www.stettlerlearning.com/event/seat-at-the-table-5/
LOCATION:Stettler Adult Learning Centre\, 4911 51 St\, Stettler\, Alberta\, T0C 2L0\, Canada
END:VEVENT
END:VCALENDAR