BEGIN:VCALENDAR
VERSION:2.0
PRODID:-//Stettler Adult Learning Centre - ECPv6.15.17//NONSGML v1.0//EN
CALSCALE:GREGORIAN
METHOD:PUBLISH
X-ORIGINAL-URL:https://www.stettlerlearning.com
X-WR-CALDESC:Events for Stettler Adult Learning Centre
REFRESH-INTERVAL;VALUE=DURATION:PT1H
X-Robots-Tag:noindex
X-PUBLISHED-TTL:PT1H
BEGIN:VTIMEZONE
TZID:America/Edmonton
BEGIN:DAYLIGHT
TZOFFSETFROM:-0700
TZOFFSETTO:-0600
TZNAME:MDT
DTSTART:20240310T090000
END:DAYLIGHT
BEGIN:STANDARD
TZOFFSETFROM:-0600
TZOFFSETTO:-0700
TZNAME:MST
DTSTART:20241103T080000
END:STANDARD
BEGIN:DAYLIGHT
TZOFFSETFROM:-0700
TZOFFSETTO:-0600
TZNAME:MDT
DTSTART:20250309T090000
END:DAYLIGHT
BEGIN:STANDARD
TZOFFSETFROM:-0600
TZOFFSETTO:-0700
TZNAME:MST
DTSTART:20251102T080000
END:STANDARD
BEGIN:DAYLIGHT
TZOFFSETFROM:-0700
TZOFFSETTO:-0600
TZNAME:MDT
DTSTART:20260308T090000
END:DAYLIGHT
BEGIN:STANDARD
TZOFFSETFROM:-0600
TZOFFSETTO:-0700
TZNAME:MST
DTSTART:20261101T080000
END:STANDARD
END:VTIMEZONE
BEGIN:VEVENT
DTSTART;TZID=America/Edmonton:20250917T090000
DTEND;TZID=America/Edmonton:20250917T150000
DTSTAMP:20260421T082911
CREATED:20250909T231440Z
LAST-MODIFIED:20250909T232038Z
UID:3015-1758099600-1758121200@www.stettlerlearning.com
SUMMARY:New Futures Workshop
DESCRIPTION:
URL:https://www.stettlerlearning.com/event/new-futures-2/
LOCATION:Alberta
END:VEVENT
BEGIN:VEVENT
DTSTART;TZID=America/Edmonton:20250917T180000
DTEND;TZID=America/Edmonton:20250917T200000
DTSTAMP:20260421T082911
CREATED:20250909T153204Z
LAST-MODIFIED:20250909T153204Z
UID:3000-1758132000-1758139200@www.stettlerlearning.com
SUMMARY:Budget Cooking Series - Tuna Edition
DESCRIPTION:
URL:https://www.stettlerlearning.com/event/budget-cooking-series-tuna-edition/
LOCATION:Alberta
END:VEVENT
END:VCALENDAR